BEGIN:VCALENDAR
VERSION:2.0
PRODID:-//Mises à feu 14-18 - ECPv5.3.2.1//NONSGML v1.0//EN
CALSCALE:GREGORIAN
METHOD:PUBLISH
X-WR-CALNAME:Mises à feu 14-18
X-ORIGINAL-URL:http://videlaine.com/misesafeu14-18
X-WR-CALDESC:évènements pour Mises à feu 14-18
BEGIN:VTIMEZONE
TZID:Europe/Paris
BEGIN:DAYLIGHT
TZOFFSETFROM:+0100
TZOFFSETTO:+0200
TZNAME:CEST
DTSTART:20150329T010000
END:DAYLIGHT
BEGIN:STANDARD
TZOFFSETFROM:+0200
TZOFFSETTO:+0100
TZNAME:CET
DTSTART:20151025T010000
END:STANDARD
END:VTIMEZONE
BEGIN:VEVENT
DTSTART;TZID=Europe/Paris:20151018T183000
DTEND;TZID=Europe/Paris:20151018T200000
DTSTAMP:20260421T124430
CREATED:20151017T081602Z
LAST-MODIFIED:20151017T081751Z
UID:1430-1445193000-1445198400@videlaine.com
SUMMARY:1er anniversaire
DESCRIPTION:18h30 à l’atelier pour la mise à feu du 1er anniversaire \n14 bis rue Babeuf 94800 Villejuif
URL:http://videlaine.com/misesafeu14-18/event/1er-anniversaire/
LOCATION:atelier\, 14 bis rue babeuf\, villejuif\, 94800\, France
END:VEVENT
END:VCALENDAR